{
 "currentVersion": 10.71,
 "serviceDescription": "",
 "mapName": "Layers",
 "description": "",
 "copyrightText": "",
 "supportsDynamicLayers": false,
 "layers": [
  {
   "id": 0,
   "name": "linn.sid",
   "parentLayerId": -1,
   "defaultVisibility": true,
   "subLayerIds": null,
   "minScale": 0,
   "maxScale": 0,
   "type": "Raster Layer"
  }
 ],
 "tables": [],
 "spatialReference": {
  "wkid": 102675,
  "latestWkid": 3417
 },
 "singleFusedMapCache": true,
 "tileInfo": {
  "rows": 256,
  "cols": 256,
  "dpi": 96,
  "format": "MIXED",
  "compressionQuality": 75,
  "origin": {
   "x": 5315545.528674,
   "y": 3570796.878031
  },
  "spatialReference": {
   "wkid": 102675,
   "latestWkid": 3417
  },
  "lods": [
   {
    "level": 0,
    "resolution": 166.66666666666666,
    "scale": 192000
   },
   {
    "level": 1,
    "resolution": 62.5,
    "scale": 72000
   },
   {
    "level": 2,
    "resolution": 55.55555555555555,
    "scale": 64000
   },
   {
    "level": 3,
    "resolution": 27.777777777777775,
    "scale": 32000
   },
   {
    "level": 4,
    "resolution": 13.888888888888888,
    "scale": 16000
   },
   {
    "level": 5,
    "resolution": 8.333333333333332,
    "scale": 9600
   },
   {
    "level": 6,
    "resolution": 5.208333333333333,
    "scale": 6000
   },
   {
    "level": 7,
    "resolution": 3.125,
    "scale": 3600
   },
   {
    "level": 8,
    "resolution": 2.083333333333333,
    "scale": 2400
   },
   {
    "level": 9,
    "resolution": 1.0416666666666665,
    "scale": 1200
   },
   {
    "level": 10,
    "resolution": 0.5208333333333333,
    "scale": 600
   }
  ]
 },
 "initialExtent": {
  "xmin": 5266565.452462772,
  "ymin": 3493331.3402061854,
  "xmax": 5593434.547537228,
  "ymax": 3595620,
  "spatialReference": {
   "wkid": 102675,
   "latestWkid": 3417
  }
 },
 "fullExtent": {
  "xmin": 5356200,
  "ymin": 3406200,
  "xmax": 5503800,
  "ymax": 3586600,
  "spatialReference": {
   "wkid": 102675,
   "latestWkid": 3417
  }
 },
 "minScale": 192000,
 "maxScale": 600,
 "units": "esriFeet",
 "supportedImageFormatTypes": "PNG32,PNG24,PNG,JPG,DIB,TIFF,EMF,PS,PDF,GIF,SVG,SVGZ,BMP",
 "documentInfo": {
  "Title": "",
  "Author": "",
  "Comments": "",
  "Subject": "",
  "Category": "",
  "AntialiasingMode": "None",
  "TextAntialiasingMode": "Force",
  "Keywords": ""
 },
 "capabilities": "Map,Query,Data",
 "supportedQueryFormats": "JSON, geoJSON",
 "exportTilesAllowed": false,
 "supportsDatumTransformation": true,
 "maxRecordCount": 1000,
 "maxImageHeight": 4096,
 "maxImageWidth": 4096,
 "supportedExtensions": "KmlServer"
}
